BEGIN:VCALENDAR
VERSION:2.0
PRODID:-//Her Golf - ECPv4.6.21//NONSGML v1.0//EN
CALSCALE:GREGORIAN
METHOD:PUBLISH
X-WR-CALNAME:Her Golf
X-ORIGINAL-URL:http://hergolf.com.au
X-WR-CALDESC:Events for Her Golf
BEGIN:VEVENT
DTSTART;TZID=Australia/Sydney:20180901T080000
DTEND;TZID=Australia/Sydney:20180901T170000
DTSTAMP:20200225T224704
CREATED:20180815T063439Z
LAST-MODIFIED:20180815T063439Z
UID:236-1535788800-1535821200@hergolf.com.au
SUMMARY:Event 1
DESCRIPTION:coming soon \n  \n
URL:http://hergolf.com.au/event/event-1/
CATEGORIES:Womens Golf
ATTACH;FMTTYPE=image/jpeg:http://hergolf.com.au/wp-content/uploads/2018/05/Liverpool-Golf-Club-e1534315494892.jpg
END:VEVENT
END:VCALENDAR